BEGIN:VCALENDAR
VERSION:2.0
PRODID:-//Kalender//
BEGIN:VEVENT
SUMMARY:Zeit und Raum im Kloster Arenberg
DTSTART;TZID=Europe/Berlin:20260612T160000
DTEND;TZID=Europe/Berlin:20260614T133000
DTSTAMP:20260422T185848Z
UID:event_ical_eventmanagement_820
DESCRIPTION:Zeit und Raum im Kloster Arenberg Ein Wochenende im Kloster Ar
 enberg: „Zeit und Raum“ für junge Erwachsene Manchmal braucht es eine
  Pause vom Alltag\, um wieder Klarheit und Energie zu finden. Genau dafür
  bietet das Kloster Arenberg bei Koblenz einen besonderen Ort der Ruhe und
  Inspiration. Vom 12. bis 14. Juni 2026 laden die ökumenische Initiative 
 AnsprechBar sowie der Pastorale Raum Sinzig und das Kloster Arenberg ein z
 u: „Zeit und Raum – für das\, was du gerade brauchst“. Diese Tage s
 ind für alle\, die Raum für Ruhe und Entspannung sowie Orientierung\, sp
 irituelle Tiefe und neue Impulse für den Alltag suchen. Das Wochenende bi
 etet sowohl ausreichend Zeit für sich selbst als auch Austausch mit ander
 en. Zudem gibt es Einblicke in das klösterliche Leben. Das Gästehaus mit
  Schwimmbad\, köstlicher Küche\, entspannender Sauna und einem Permakult
 ur-Park bietet den idealen Erholungsraum für Körper und Seele. Das Woche
 nende für Menschen zwischen 20 und 40 startet am Freitag\, den 12. Juni u
 m 16 Uhr und endet am Sonntag\, den 14. Juni um 13:30 Uhr. Der Teilnahmebe
 itrag beträgt 140€. Anmelden könnt ihr euch unter folgendem Link: http
 s://forms.cloud.microsoft/e/mVbn34mbUv Bei Fragen sind Pastoralreferentin 
 Elisabeth Zenner elisabeth.zenner@bistum-trier.de und Pastoralreferent Tob
 ias Wolff tobias.wolff@bistum-trier.de erreichbar.
LOCATION:Kloster Arenberg\, -\, -\, -
END:VEVENT
END:VCALENDAR
