BEGIN:VCALENDAR
VERSION:2.0
PRODID:-//Kalender//
BEGIN:VEVENT
SUMMARY:Fashion Factory
DTSTART;TZID=Europe/Berlin:20261007T093000
DTEND;TZID=Europe/Berlin:20261007T133000
DTSTAMP:20260422T185041Z
UID:event_ical_eventmanagement_819
DESCRIPTION:Die Anmeldung ist ab dem 09.09.2026 ausschließlich über die 
 JuBiT-App möglich. Du liebst Mode und hast Lust dein ganz eigenes Kleidun
 gsstück zu gestalten? In unserem kreativen Workshop wirst du selbst zur D
 esignerin: Ob Shirt\, Hoodie oder Stofftasche - mit vielen Vorlagen\, eine
 m professionellen Plotter und viel Raum für deine Ideen gestaltest du dei
 n ganz persönliches Unikat. Freu dich auf kreativen Austausch und Spaß m
 it anderen Mädchen\, ein buntes Rahmenprogramm\, Snacks und Getränke. Bi
 tte bring ein eigenes Kleidungsstück (mit Baumwollanteil) mit\, das du ve
 rschönern möchtest. Dies ist ein Angebot im Rahmen der Mädchenwoche und
  wird vom Arbeitskreis Mädchenarbeit im Rhein-Hunsrück-Kreis organisiert
 .
LOCATION:Jugendzentrum Sohren\, Untere Bergstraße 1a\, 55487 Sohren\, Deu
 tschland
END:VEVENT
END:VCALENDAR
