BEGIN:VCALENDAR
VERSION:2.0
PRODID:-//Kalender//
BEGIN:VEVENT
SUMMARY:Gesprächsabend
DTSTART;TZID=Europe/Berlin:20260509T190000
DTEND;TZID=Europe/Berlin:20260509T210000
DTSTAMP:20260422T190034Z
UID:event_ical_eventmanagement_818
DESCRIPTION:An diesem Abend wollen wir gemeinsam essen\, diskutieren und i
 ns Gespräch kommen. Egal\, welche Fragen und Themen dich beschäftigen\, 
 du kannst sie gerne mitbringen und wir sprechen darüber. Alles findet in 
 einer angenehmen und ausgelassenen Atmosphäre statt. Wir freuen uns auf d
 ich!
LOCATION:eli.ja - Kirche der Jugend Saarbrücken\, Hellwigstr. 15\, 66121 
 Saarbrücken\, Deutschland
END:VEVENT
END:VCALENDAR
