BEGIN:VCALENDAR
VERSION:2.0
PRODID:-//Kalender//
BEGIN:VEVENT
SUMMARY:Christi Himmelfahrt mit eli.ja
DTSTART;TZID=Europe/Berlin:20260514T110000
DTEND;TZID=Europe/Berlin:20260514T160000
DTSTAMP:20260422T190724Z
UID:event_ical_eventmanagement_817
DESCRIPTION:An Christi Himmelfahrt feiern wir unseren Gottesdienst von eli
 .ja in der Statio Dominus Mundi in Wustweiler. Im Anschluss möchten wir d
 en Tag in gemeinschaftlicher Atmosphäre bei einem Picknick auf einer nahe
 gelegenen Wiese ausklingen lassen. Die Anreise sowie die Teilnahme sind au
 sschließlich mit einem angemieteten Reisebus möglich. Aufgrund der begre
 nzten Platzkapazität in der Statio ist eine Voranmeldung erforderlich . F
 ür euch entstehen keine Kosten. Ablauf des Tages bis 09:45 Uhr – Treffe
 n in eli.ja 10:00 Uhr – Abfahrt mit dem Bus ab eli.ja 10:30 Uhr – Anku
 nft an der Statio Dominus Mundi 11:00 Uhr – Gottesdienst zu Christi Himm
 elfahrt ab 12:30 Uhr – Zwei Möglichkeiten: Teilnahme an einer etwa 30-m
 inütigen Führung zu den Kunstwerken und zur Architektur der Statio durch
  Familie Meiser\; anschließend gemeinsamer Fußweg zu einer Waldlichtung 
 zum Picknick Direkter gemeinsamer Fußweg zur Waldlichtung zum Picknick 15
 :15 Uhr – Rückfahrt ab Wustweiler 16:00 Uhr – Ankunft in eli.ja und E
 nde der Veranstaltung Wir freuen uns auf einen schönen gemeinsamen Christ
 i-Himmelfahrts-Tag!
END:VEVENT
END:VCALENDAR
