BEGIN:VCALENDAR
VERSION:2.0
PRODID:-//Kalender//
BEGIN:VEVENT
SUMMARY:Sommercamp
DTSTART:20260629T070000Z
DTEND:20260710T140000Z
DTSTAMP:20260420T220352Z
UID:event_ical_eventmanagement_816
DESCRIPTION:Wir freuen uns wieder auf das Sommercamnp in den Sommerferien 
 in der Kirche der Jugend eli.ja für Kinder von 6 - 14 Jahre in den ersten
  beiden Ferienwochen! 29.06. - 10.07. 2026\, Montag - Freitag\, 09:00 Uhr 
 - 16:00 Uhr\, Kirche der Jugend eli.ja  Frühstück bringt ihr jeden Tag 
 selber mit\, warmes Mittagessen wird (außer an den Tagen\, an denen wir e
 inen längeren Ausflug machen) geliefert.  Wir planen Ausflüge in beiden
  Wochen\, es gibt ein buntes Programm vor Ort und jede Menge Spaß!  Kost
 en: eine Woche 50 Euro\, bei Buchung von beiden Wochen 80 Euro (Material\,
  Programm und Mittagessen inklusive)
LOCATION:eli.ja - Kirche der Jugend Saarbrücken\, Hellwigstr. 15\, 66121 
 Saarbrücken\, Deutschland
END:VEVENT
END:VCALENDAR
