BEGIN:VCALENDAR
VERSION:2.0
PRODID:-//Kalender//
BEGIN:VEVENT
SUMMARY:Ein Tag beim Rundfunk
DTSTART:20260610T140000Z
DTEND:20260610T173000Z
DTSTAMP:20260420T221215Z
UID:event_ical_eventmanagement_815
DESCRIPTION:Ihr durchlebt in nur 3\,5 Stunden einen Tag beim Rundfunk - vo
 n einer Führung durch die SR-Gebäude über Übungen zum kreativen Schrei
 ben bis hin zum Aufnehmen Eurer eigenen Audio-Datei.  15:45 Uhr: Treffpun
 kt Besucherparkplatz Funkhaus Halberg 16:30 Uhr: Fahrt mit dem ÖPNV zum J
 ohannesfoyer (Ursulinenstr.) 16:45 Uhr: Übungen zum kreativen Schreiben u
 nd Aufnehmen einer eigenen Audio-Datei 19:30 Uhr: Ende im Johannesfoyer Wi
 r freuen uns auf Euch!
END:VEVENT
END:VCALENDAR
