BEGIN:VCALENDAR
VERSION:2.0
PRODID:-//Kalender//
BEGIN:VEVENT
SUMMARY:Fachtag Alltagstaugliches 4.0
DTSTART:20260527T070000Z
DTEND:20260527T150000Z
DTSTAMP:20260420T222041Z
UID:event_ical_eventmanagement_814
DESCRIPTION:Alltagstaugliches 4.0.: Christlich wozu? Wertevermittlung in d
 er Kinder- und Jugendhilfe   Der Fachtag am 27.Mai in der KFS fragt sich:
  was verändert sich\, wenn ich die christliche Perspektive mit einbringe?
  Was ist eigentlich christlich? Wo fängt das an und woran ist es spürbar
 ? Es erwartet uns zuerst ein Fachvortrag zum Thema mit neuen Perspektiven 
 von Dr. Michael Meyer (Theologische Fakultät Trier). Am Nachmittag gibt e
 s genug Platz und Zeit um das Gehörte in die Praxis zu übertragen und pr
 axisnahen Input zu bekommen. Kosten: 20 Euro (Die Einrichtungen übernehme
 n oft die Kosten)
END:VEVENT
END:VCALENDAR
