BEGIN:VCALENDAR
VERSION:2.0
PRODID:-//Kalender//
BEGIN:VEVENT
SUMMARY:Citybound - Stadtraum neu erleben und als Erfahrungsraum nutzen
DTSTART;TZID=Europe/Berlin:20260618T090000
DTEND;TZID=Europe/Berlin:20260618T160000
DTSTAMP:20260424T155009Z
UID:event_ical_eventmanagement_785
DESCRIPTION:Workshop Citybound: Stadtraum neu erleben  und als Erlebnisra
 um nutzen  Ein Methodenworkshop für die pädagogische Praxis Citybound i
 st ein erlebnispädagogischer Ansatz\, der Gruppen in den Stadtraum führt
  und dort kreative\, herausfordernde und stärkende Aufgaben ermöglicht. 
 Praxisnah. Interaktiv. Draußen. Du erlebst Citybound aus beiden Perspekti
 ven: als Teilnehmer*in und als Anleitende*r. Was erwartet dich? ·     
    Einführung in Citybound &amp\; erlebnispädagogische Grundlagen · 
        Praktische Übungen direkt im Stadtraum ·        Planung &
 amp\; Durchführung eigener Citybound-Aufgaben ·        Reflexion &am
 p\; Transfer in die Arbeit mit Jugendlichen ·       Austausch und Vern
 etzung mit Kolleg*innen Inhalte ·        Einführung in Geschichte\, 
 Prinzipien und Wirkfaktoren von Citybound ·        Planung und Durchf
 ührung von Citybound-Aktionen ·        Umgang mit Gruppenprozessen i
 m öffentlichen Raum\, Sicherheit\, Rahmenbedingungen ·        Praxis
 phase: Durchführung eigener Citybound-Aufgaben in Kleingruppen ·     
    Selbsterfahrungsphase ·       Transfer in die eigene Arbeit mit K
 indern und Jugendlichen Organisatorisches ·         Zielgruppe :  Ju
 gendpfleger*innen\, Schulsozialarbeiter*innen\, Fachkräfte der Offenen un
 d Mobilen Jugendarbeit\, alle\, die neue pädagogische Methoden kennenlern
 en möchten ·        Datum: Donnerstag\, 18.06.2026 ·        Uhr
 zeit : 9:00 – 16:00 Uhr  ·        Ort: X-Ground I Kirche der Jugen
 d Koblenz (St. Elisabethstr. 6) ·        Referent: Valentin Frickenha
 us und Lukas Klein von (Natürlich Wir – Erlebnis\, Spiel- und Umweltpä
 dagogik\, Köln) ·        Kosten: 30 € Bitte mitbringen: wetterfest
 e Kleidung\, bequeme Schuhe und Kleidung\, etwas zum Schreiben\, Neugier u
 nd Verpflegung für den Tag. Kurz vorher gibt es nochmal eine E-Mail mit d
 en wichtigsten Infos.  Für nähere Informationen wenden sie sich bitte a
 n Claudia Liesenfeld-Gilles: 0151 53 83 1206 oder claudia.liesenfeld-gille
 s@bistum-trier.de Kooperationsveranstaltung der Kreisverwaltung Neuwied\, 
 Alternkirchen und der Fachstelle Jugend VB Koblenz
LOCATION:X-Ground I Kirche der Jugend Koblenz\, St. Elisabethstr. 6\, 5607
 3 Koblenz\, Deutschland
END:VEVENT
END:VCALENDAR
