BEGIN:VCALENDAR
VERSION:2.0
PRODID:-//Kalender//
BEGIN:VEVENT
SUMMARY:Firmbegleiter für Firmung am Dom
DTSTART:20261113T075030Z
DTEND:20261115T075812Z
DTSTAMP:20260421T120032Z
UID:event_ical_eventmanagement_783
DESCRIPTION:
END:VEVENT
END:VCALENDAR
