BEGIN:VCALENDAR
VERSION:2.0
PRODID:-//Kalender//
BEGIN:VEVENT
SUMMARY:Firmung Trierer Dom
DTSTART:20261113T160000Z
DTEND:20261115T123000Z
DTSTAMP:20260420T013934Z
UID:event_ical_eventmanagement_779
DESCRIPTION:Liebe Jugendliche\, die nächste Firmung im Trierer Dom steht 
 bevor – und ihr seid herzlich eingeladen\, euch auf dieses besondere Sak
 rament vorzubereiten! Die Firmung findet statt am Christkönigssonntag\, 2
 2. November 2026\, um 10:00 Uhr im Trierer Dom und wird in diesem Jahr von
  Weihbischof Robert Brahm gespendet. Angesprochen sind alle Jugendlichen d
 er Domchöre sowie der Domministratur ab 13 Jahren (zum Zeitpunkt der Firm
 ung).   Vorbereitungswochenende Zur Vorbereitung verbringen wir gemeinsam
  ein Wochenende im Jugend- und Gästehaus des Bistums Trier. In kreativen\
 , abwechslungsreichen und erlebnisreichen Einheiten wollen wir dem Glauben
  nachspüren und entdecken\, wo Gott in unserem Leben auftaucht. Es geht u
 m eure Fragen\, eure Erfahrungen – und darum\, wie Glaube heute lebendig
  werden kann. Ort: Jugend- und Gästehaus Trier Jesuitenstraße 13\, 54290
  Trier Termin: Freitag\, 13. November (später Nachmittag) bis Sonntag\, 1
 5. November (nach dem Mittagessen) Zur Anmeldung geht es hier Kosten 60 Eu
 ro für das gesamte Wochenende mit Übernachtung 30 Euro ohne Übernachtun
 g (Materialkosten etc.) Die Teilnahmegebühr wird vor Ort bezahlt.   Kont
 akt &amp\; Informationen Jugendpfarrer Peter Zillgen peter.zillgen@bistum-
 trier.de 0171–9948773
LOCATION:Jugend- und Gästehaus Bistum Trier\, Jesuitenstraße 13\, 54290 
 Trier\, Deutschland
END:VEVENT
END:VCALENDAR
