BEGIN:VCALENDAR
VERSION:2.0
PRODID:-//Kalender//
BEGIN:VEVENT
SUMMARY:Kindererlebnistag mit Spiel und Spaß
DTSTART:20260619T130000Z
DTEND:20260619T170000Z
DTSTAMP:20260420T014701Z
UID:event_ical_eventmanagement_772
DESCRIPTION:"Kindererlebnistag mit Spiel und Spaß" im Jugendzentrum Sohre
 n mit kreativen und aktiven Workshops zum Thema "Rückenwind – Gott stä
 rkt Elija". Für alle Kinder von 6 bis 11 Jahren. Die Teilnahme ist kosten
 frei. Wenn Sie mehrere Kinder anmelden möchte\, bitten wir um getrennte A
 nmeldungen! Kurz vor der Veranstaltung wird es noch eine Infomail geben. V
 eranstalter: Tobias Hauth von der Evangelischen Jugend und Gemeindepädago
 gik im Kirchenkreis Simmern-Trarbach Christina Bender und Lisa Lorsbach vo
 m Pastoralen Raum Simmern  Christine Evers vom Jugendzentrum Sohren
LOCATION:Jugendzentrum Sohren\, Untere Bergstraße 1a\, 55487 Sohren\, Deu
 tschland
END:VEVENT
END:VCALENDAR
