BEGIN:VCALENDAR
VERSION:2.0
PRODID:-//Kalender//
BEGIN:VEVENT
SUMMARY:E-Learning: Kinder schützen l Prävention sexualisierte Gewalt l 
 Saarlouis
DTSTART:20260616T170000Z
DTEND:20260616T193000Z
DTSTAMP:20260421T083645Z
UID:event_ical_eventmanagement_618
DESCRIPTION:Kirchliche Kinder- und Jugendarbeit will ein sicherer Ort für
  Kinder und Jugendliche sein\, an dem sie sich gut entfalten können. Mita
 rbeiter_innen in der katholischen Kinder- und Jugendarbeit wollen Kindern 
 und Jugendlichen diesen sicheren Ort bieten\, sie vor (sexueller) Gewalt s
 chützen und bei der Entwicklung zu einer eigenständigen Persönlichkeit 
 beraten und begleiten. Mit dieser Schulung werden die Teilnehmer_innen zum
  Wohl der Kinder und Jugendlichen im präventiven Handeln gestärkt. Sie w
 erden sensibilisiert für die Rechte von jungen Menschen und für den Umga
 ng mit Nähe und Distanz. Die Schulung vermittelt auch Klarheit über die 
 verschiedenen Formen von Kindeswohlgefährdung und zeigt Handlungsmöglich
 keiten auf. Bitte den entsprechenden Betrag mit der Anmeldung auf folgende
 s Konto überweisen: Bistum Trier IBAN DE90 3706 0193 3013 3870 19 BIC: GE
 NODED1PAX (Pax Bank Köln) Zahlungsaufruf: 10220326501303
LOCATION:Familienbildungsstätte Saarlouis\, Ludwig-Karl-Balzer-Allee 5\, 
 66740 Saarlouis\, Deutschland
END:VEVENT
END:VCALENDAR
