BEGIN:VCALENDAR
VERSION:2.0
PRODID:-//Kalender//
BEGIN:VEVENT
SUMMARY:'Kinder schützen l Prävention sexualisierte Gewalt l Merzig'
DTSTART:20260425T080000Z
DTEND:20260425T130000Z
DTSTAMP:20260420T014521Z
UID:event_ical_eventmanagement_613
DESCRIPTION:Präventionsschulung als Präsenzseminar Präventions-Schulung
 : 4\,5 Stunden (zzgl. Pause\, Präsenz)  Diese Schulung ist für ehrenamt
 lich Tätige in der Kinder- und Jugend(verbands)arbeit ab 16 Jahren und al
 le Interessierte. In der Schulung werden die Teilnehmenden im Austausch mi
 t anderen für einen grenzachtenden Umgang und für noch mehr Achtsamkeit 
 im Miteinander sensibilisiert. Sie erhalten grundlegende Informationen zum
  Thema sexualisierte Gewalt und Kindeswohlgefährdung\, zu den Strategien 
 von Täter*innen sowie Handlungssicherheit im Umgang mit grenzverletzendem
  Verhalten und Hinweise dazu\, wo man Unterstützung im Gefährdungsfall e
 rhält. Die kirchliche Kinder- und Jugend(verbands)arbeit soll einen guten
  und sicheren Ort für Kinder und Jugendliche bieten\, an dem sie sich ent
 falten und ihre Identität und Persönlichkeit weiter entwickeln können. 
 Diese Schulung leistet dazu einen wichtigen Beitrag.
LOCATION:Caritas Saar-Hochwald e.V.\, Trierer Str. 213\, 66663 Merzig\, De
 utschland
END:VEVENT
END:VCALENDAR
