BEGIN:VCALENDAR
VERSION:2.0
PRODID:-//Kalender//
BEGIN:VEVENT
SUMMARY:Jugendtour Berlin
DTSTART:20260406T220000Z
DTEND:20260410T220000Z
DTSTAMP:20260421T083938Z
UID:event_ical_eventmanagement_520
DESCRIPTION:In den Osterferien geht es nach Berlin! Euch erwarten 5 spanne
 nde Tage in der Hauptstadt!  Neben dem Besuch im Deutschen Bundestag werd
 en wir u.a. bei einer Stadtführung die Metropole näher kennenlernen\, di
 e Berliner Unterwelten erkunden sowie die Gedenkstätte „Stasi-Gefängni
 s Hohenschönhausen“ mit ihren Zeitzugenberichten erleben. Für die Erku
 ndung „auf eigene Faust“ bleibt ebenfalls ausreichend Zeit. Die An- un
 d Abreise erfolgt mit der Deutschen Bahn (ab Türkismühle)\, die Unterbri
 ngung in Mehrbettzimmern. Im Teilnahmebeitrag sind Fahrtkosten\, Übernach
 tung\, Frühstück und Programmkosten enthalten.  Wann: 07.04. - 11.04.20
 26 Wer: 14 - 19 Jahre (ab 9. Klasse)  Teilnahmebeitrag: 260\,00€
END:VEVENT
END:VCALENDAR
