BEGIN:VCALENDAR
VERSION:2.0
PRODID:-//Kalender//
BEGIN:VEVENT
SUMMARY:Aussendung der Sternsinger*innen - Region Saarbrücken
DTSTART;TZID=Europe/Berlin:20260102T103000
DTEND;TZID=Europe/Berlin:20260102T160000
DTSTAMP:20260425T223236Z
UID:event_ical_eventmanagement_490
DESCRIPTION:"Schule statt Fabrik - Sternsingen gegen Kinderarbeit" Die Ste
 rnsinger*innen aus den Pfarreien und Jugendverbänden sind herzlich zur Au
 ssendungsfeier der Region Saarbrücken für das Jahr 2026 eingeladen. Wann
 : 02. Januar 2026\, 10.30 Uhr bis ca. 16.00 Uhr Wo: Pfarrkirche Heilig Sak
 rament Dillingen (Saardom) Wer: Fachstelle Jugend VB Saarbrücken\, Pastor
 aler Raum Dillingen in Kooperation mit BDKJ Trier/Bistum Trier Abteilung J
 ugend Was: 10.30 Uhr Gottesdienst 12.30 Uhr Imbiss 13:30 Uhr Workshops (Be
 schreibung der Workshops unten im Text) 15:00 Uhr gemeinsamer Abschluss Hi
 lfreiche Informationen: Der Bahnhof liegt 300m entfernt (5 min Fußweg)! 
 In der Nähe der Kirche gibt es einige Parkgelegenheiten. Workshop-Beschre
 ibungen : 1. Trommel-Workshop Verschiedene Trommeln und Rasseln stehen fü
 r die Kinder zur Verfügung und innerhalb kurzer Zeit wird es sicherlich a
 llen gelingen\, in denselben Rhythmus zu kommen. Teilnehmen können Kinder
  ab 8 Jahre.  2. Singen mit vielen Eine Stunde Spaß am Singen. Dieser Wo
 rkshop ist etwas für alle\, die gerne mit anderen gemeinsam singen. Die L
 iedauswahl ist vielfältig und alle Lieder sind so gewählt\, dass sie sch
 nell zu erlernen sind.  3. Spielen und Toben Vier gewinnt\, Jenga\, Mikad
 o\, ... aber nicht so klein wie daheim\, sondern in der Maxi-Version werde
 n aufgebaut zum Spielen und Toben. Dazu noch Sackloch\, Schwungtuch\, Bäl
 le\, Pedalos\, Springseile\, ... Je nach Wetterlage findet dieser Workshop
  draußen statt. Hier wird “einfach nur” gespielt.  4. Dillinger Hoff
 nungsorte Wer weiß\, dass Willi Graf einige Monate in Dillingen gelebt ha
 t und dass es mitten in der Innenstadt mal eine Synagoge gab? Macht euch a
 uf den Weg zu einigen besonderen Orten! Die Actionbound-App zeigt euch nic
 ht nur den Weg\, sondern fordert an jedem Ort zum Erfüllen einer Aufgabe 
 auf. Bitte ladet euch im Vorfeld die Actionbound App auf euer Handy. Sie i
 st kostenlos erhältlich.  5. Kirchenerlebnis In jeder Kirche gibt es ein
 iges zu entdecken. Mit der Actionbound-App könnt ihr den Saardom genauer 
 kennenlernen und erfüllt dabei viele spannende Aufgaben. Bitte ladet euch
  im Vorfeld die Actionbound App auf euer Handy. Sie ist kostenlos erhältl
 ich.  6. Schule statt Fabrik – Sternsinger gegen Kinderarbeit So lautet
  das Motto der Sternsingeraktion 2026. Was das genau bedeutet\, erfahrt ih
 r in diesem Workshop.  7. Entspannungsreise Eine ausgebildete Entspannung
 spädagogin lädt ein zu einer Entspannungsreise. Alle können hier spiele
 rlisch erfahren\, wie man innere Ruhe findet\, Konzentration stärkt\, Fan
 tasie und Kreativität entfaltet. Dazu gibt es Traumreisen\, Atem – und 
 Bewegungsübungen\, kleine Spiele und Entspannungsmusik.  8. Gemeinsam f
 ür Kinder- und Jugendschutz Ein Workshop für Verantwortliche und Begleit
 personen der Aktion Dreikönigssingen  Jährlich engagieren sich tausende
  von Kindern und Jugendlichen bei der Sternsinger*innenaktion. Dabei solle
 n sie Spaß haben und sich wohl und sicher fühlen\, damit sie sich noch l
 ange Zeit daran erinnern. Bei diesem Workshop nehmen wir die Themen Sicher
 heit und Kindes- bzw. Jugendwohl in den Blick. Die Teilnehmenden haben die
  Möglichkeit\, sich auszutauschen und werden für einen grenzachtenden Um
 gang sowie für noch mehr Achtsamkeit im Miteinander im Rahmen der Sternsi
 nger*innenaktion sensibilisiert. Besprochen werden u.a. Themen wie Gruppen
 einteilungen unter Berücksichtigung der Interessen der Kinder und Jugendl
 ichen\, grenzachtendes Einkleiden\, achtsamer Umgang mit Videos\, Fotos un
 d Interviews\, Schutzkonzepte\, Aufgaben von Begleitpersonen…
LOCATION:Pfarrkirche Heilig Sakrament (Saardom)\, Saarstraße 45\, 66763 D
 illingen\, Deutschland
END:VEVENT
END:VCALENDAR
