BEGIN:VCALENDAR
VERSION:2.0
PRODID:-//Kalender//
BEGIN:VEVENT
SUMMARY:Aussendung der Sternsinger*innen Region Trier
DTSTART;TZID=Europe/Berlin:20251230T110000
DTEND;TZID=Europe/Berlin:20251230T170000
DTSTAMP:20260425T223236Z
UID:event_ical_eventmanagement_482
DESCRIPTION:Die Sternsinger*innen aus den Pfarreien und Jugendverbänden s
 ind herzlich zur regionalen Aussendungsfeier der Region Trier eingeladen W
 ann: 30.12.2025\, von 11:00 - 17:00 Uhr  Wo: St. Martinuskirche\, Martinu
 sstraße 1\, 54411 Hermeskeil Wer: Fachstelle Jugend im VB Trier\, Pastora
 ler Raum Hermeskeil\, Jugendkirche Trier\, BDKJ Trier / Abteilung Jugend A
 blauf: 11:00 Uhr – Festlicher Gottesdienst Gemeinsamer Gottesdienst mit 
 Sternsinger-Kleidung. 12:00 Uhr – Mittagsessen &amp\; Filmzeit   Imbiss
  und anschließende Filmvorführung. Im Foyer oder einem separaten Raum be
 steht die Möglichkeit\, die Sternsinger-Kleidung gruppenweise abzulegen. 
 13:30 Uhr – Kreativwerkstatt: Kinderrechte sichtbar machen Gemeinsames G
 estalten von Schildern zum Thema Kinderrechte. 14:00 Uhr – Vorbereitung 
 zum Sternsingerzug   Langsames Aufstellen und Sammeln der Gruppen. 14:30 
 Uhr – Sternsingerzug zum Rathaus   Gemeinsamer Weg zur Station Rathaus\
 , wo die gestalteten Schilder präsentiert werden. 16:00 Uhr – Abschluss
  am Feuerwehrmuseum   Ende der Veranstaltung mit der Möglichkeit\, das F
 euerwehrmuseum zu besichtigen. Hilfreiche Informationen:  In 5 Minuten En
 tfernung (fußläufig) gibt es einen Busbahnhof \, darüber hinaus gibt ca
 . 15 kostenlose Parkplätze direkt  neben der Kirche .
LOCATION:St. Martinuskirche\, Martinusstraße 1\, 54411 Hermeskeil\, Deuts
 chland
END:VEVENT
END:VCALENDAR
