BEGIN:VCALENDAR
VERSION:2.0
PRODID:-//Kalender//
BEGIN:VEVENT
SUMMARY:DIVERS 2025
DTSTART:20250920T070000Z
DTEND:20250921T130000Z
DTSTAMP:20260419T130601Z
UID:event_ical_eventmanagement_460
DESCRIPTION:Liebe Freund*innen\, wir möchten euch alle herzlich dazu einl
 aden\, sich zu der diesjährigen BDKJ Diözesanversammlung anzumelden. Sie
  findet von 20. bis 21. September in dem neuen Jugendhaus in Trier statt. 
 Auf unserer neuen Homepage findet ihr unter: DiVers  den Zugang zum Antra
 gs Grün   und andere Unterlagen wie zum Beispiel die Übersicht über di
 e Wahlämter. Schaut auf der Homepage vorbei. Wir freuen uns auf euch!
LOCATION:Bischöfliches Priesterseminar Trier\, Jesuitenstraße 13\, 54290
  Trier\, Deutschland
END:VEVENT
END:VCALENDAR
