BEGIN:VCALENDAR
VERSION:2.0
PRODID:-//Kalender//
BEGIN:VEVENT
SUMMARY:Zeltlager 2026
DTSTART;TZID=Europe/Berlin:20260723T083000
DTEND;TZID=Europe/Berlin:20260801T140000
DTSTAMP:20260422T185858Z
UID:event_ical_eventmanagement_430
DESCRIPTION:Sommerlager 9–15 Jahre – Sei dabei! Verbringe 10 unvergess
 liche Tage voller Spiel\, Spaß und Abenteuer mit neuen und alten Freunden
 ! Singen am Lagerfeuer\, Schwimmbadbesuch und spannende Aktivitäten warte
 n auf dich. Seit fast 80 Jahren veranstaltet die katholische Jugend St. El
 isabeth ein Sommerzeltlager für Kinder und Jugendliche. Auf unbefestigten
  Zeltplätzen verbringen wir knapp zehn Tage in der Natur\, kochen auf off
 ener Flamme und lassen die Tage gemeinsam am Lagerfeuer ausklingen. 📍 W
 ann &amp\; Wo: Sommerferien auf unserem Zeltplatz in der Natur 🍳 Gemein
 sames Kochen auf offener Flamme 🔥 Abende am Lagerfeuer Alle Infos\, Bil
 der und Blogbeiträge findest du auf: https://kaju-koblenz.de/
LOCATION:53520 Trierscheid\, -\, -\, -
END:VEVENT
END:VCALENDAR
