BEGIN:VCALENDAR
VERSION:2.0
PRODID:-//Kalender//
BEGIN:VEVENT
SUMMARY:Bolivien-Freundschaftstag 2025
DTSTART;TZID=Europe/Berlin:20250926T000000
DTEND;TZID=Europe/Berlin:20250926T230000
DTSTAMP:20260425T161842Z
UID:event_ical_eventmanagement_418
DESCRIPTION:Heute ist der Bolivien-Freundschaftstag der Jugend! An ihm den
 ken wir an die Kinder und Jugendlichen in Bolivien\, gestalten mit ihnen e
 inen Tag oder einen Abend oder führen Solidaritätsaktionen für die beid
 en Partnerorgansiatieon\, die Stiftung "Solidarität und Freundschaft Chuq
 uisaca-Trier" und die Jugend und Berufungspastoral Bolivien (PJV) durch. B
 islang sind im Kontext des Freundschaftstag folgende Aktivitäten geplant:
  - ein Second-Hemd &amp\; Hose Markt zugunsten der Bolivienpartnerschaft i
 n Neunkirchen am ersten Septemberwochenende - ein Bolivienabend mit der bo
 livianischen Freiwilligen Carla im Café Exodus in Saarbrücken am 26. Sep
 tember - ein Treffen von ehemaligen Outgoing- und aktuellen Ingoing-Freiwi
 lligen im Mergner Hof in Trier am 27. September - eine Firmlingsgruppe des
  Pastoralen Raums Mayen läuft für Bolivien (Viva Bolivia) im Oktober - B
 olivientag der Firmlinge des Pastoralen Raums Betzdorf im Oktober mit der 
 boliviansichen Freiwilligen Helen - außerdem ist die Fotoausstellung "Jug
 end in Bolivien" ab dem 8. September in der Fachstelle Jugend in Koblenz z
 u sehen und im Oktober in Mayen ... Bitte die lokalen Einladungen und Meld
 ungen beachten!
END:VEVENT
END:VCALENDAR
