BEGIN:VCALENDAR
VERSION:2.0
PRODID:-//Kalender//
BEGIN:VEVENT
SUMMARY:Gemeinsam für Kinder- und Jugendschutz - Schulung zur Prävention
  von sexualisierter Gewalt
DTSTART;TZID=Europe/Berlin:20250509T173000
DTEND;TZID=Europe/Berlin:20250509T220000
DTSTAMP:20260425T140305Z
UID:event_ical_eventmanagement_300
DESCRIPTION:Kirchliche Kinder- und Jugendarbeit will ein sicherer Ort für
  Kinder und Jugendliche sein\, an dem sie sich gut entfalten können. Dami
 t dies gelingt\, werden mit dieser Schulung die Teilnehmenden zum Wohl der
  Kinder und Jugendlichen im präventiven Handeln gestärkt. Zentrale Inhal
 te der Veranstaltung sind:
LOCATION:Pfarrheim Morbach (direkt unter der Kirche St. Anna)\, Bahnhofstr
 . 1\, 54497 Morbach\, Deutschland
END:VEVENT
END:VCALENDAR
