BEGIN:VCALENDAR
VERSION:2.0
PRODID:-//Kalender//
BEGIN:VEVENT
SUMMARY:Aussendung der Sternsinger*innen - Region Koblenz
DTSTART;TZID=Europe/Berlin:20260102T110000
DTEND;TZID=Europe/Berlin:20260102T160000
DTSTAMP:20260425T223237Z
UID:event_ical_eventmanagement_157
DESCRIPTION:Die Sternsinger*innen aus den Pfarreien und Jugendverbänden s
 ind herzlich zur Aussendungsfeier der Region Koblenz für das Jahr 2026 ei
 ngeladen. Wann : 02. Januar 2026\, 11.00 Uhr bis ca. 16.00 Uhr Wo : Pfarrk
 irche Hl. Kreuz in Bad Kreuznach Wer: Pastoraler Raum Bad Kreuznach\, Fach
 stelle Jugendpastoral VB Koblenz in Kooperation mit BDKJ Trier/Abteilung J
 ugend Was: 11:00 Uhr Ankommen und Begrüßung 11:30 Uhr Workshops 13:00 Uh
 r Imbiss 13:45 Uhr Aussendungsgottesdienst mit Jugendpfarrer Dominic Lück
  14:30 Uhr Flashmob-Aktion auf dem Kornmarkt Ende ca. 16:00 Uhr in der Kir
 che Hilfreiche Informationen: Der Bahnhof liegt 300m entfernt (5 min Fußw
 eg)! In der Nähe der Kirche gibt es einige kostenpflichtige Parkgelegenhe
 iten. Zu empfehlen ist der Parkplatz im Kohlenweg hinter der Bahntrasse!
LOCATION:Heilig Kreuz\, Wilhelmstr. 37\, 55543 Bad Kreuznach\, Deutschland
END:VEVENT
END:VCALENDAR
